BEGIN:VCALENDAR
VERSION:2.0
PRODID:-//Escale forestière - ECPv6.15.20//NONSGML v1.0//EN
CALSCALE:GREGORIAN
METHOD:PUBLISH
X-ORIGINAL-URL:https://escaleforestiere.be
X-WR-CALDESC:Évènements pour Escale forestière
REFRESH-INTERVAL;VALUE=DURATION:PT1H
X-Robots-Tag:noindex
X-PUBLISHED-TTL:PT1H
BEGIN:VTIMEZONE
TZID:Europe/Paris
BEGIN:DAYLIGHT
TZOFFSETFROM:+0100
TZOFFSETTO:+0200
TZNAME:CEST
DTSTART:20250330T010000
END:DAYLIGHT
BEGIN:STANDARD
TZOFFSETFROM:+0200
TZOFFSETTO:+0100
TZNAME:CET
DTSTART:20251026T010000
END:STANDARD
BEGIN:DAYLIGHT
TZOFFSETFROM:+0100
TZOFFSETTO:+0200
TZNAME:CEST
DTSTART:20260329T010000
END:DAYLIGHT
BEGIN:STANDARD
TZOFFSETFROM:+0200
TZOFFSETTO:+0100
TZNAME:CET
DTSTART:20261025T010000
END:STANDARD
BEGIN:DAYLIGHT
TZOFFSETFROM:+0100
TZOFFSETTO:+0200
TZNAME:CEST
DTSTART:20270328T010000
END:DAYLIGHT
BEGIN:STANDARD
TZOFFSETFROM:+0200
TZOFFSETTO:+0100
TZNAME:CET
DTSTART:20271031T010000
END:STANDARD
END:VTIMEZONE
BEGIN:VEVENT
DTSTART;TZID=Europe/Paris:20260715T140000
DTEND;TZID=Europe/Paris:20260715T160000
DTSTAMP:20260421T193256
CREATED:20250224T123919Z
LAST-MODIFIED:20260226T094243Z
UID:4188-1784124000-1784131200@escaleforestiere.be
SUMMARY:Les Mercredis "Nature créative" #4 Forêt de papier
DESCRIPTION:Créez un paysage forestier grâce à la technique du papier superposé.  Vous découperez des formes colorées que vous assemblerez par couches afin de faire naître un décor en relief.  Explorez les environs de l’Escale forestière à la recherche de branches\, feuilles\, fleurs et autres éléments naturels qui enrichiront votre création.  En fin d’atelier\, vous repartirez avec un cadre unique et naturel\, prêt à être accroché.  \nAtelier créatif pour enfants à partir de 6 ans (accompagnés d’un adulte). Adultes seuls admis. \nPrix : 8€ (matériel fourni)
URL:https://escaleforestiere.be/event/les-mercredis-nature-creative-4-foret-de-papier/
LOCATION:Escale forestière\, 31 rue des Sapins\, Péruwelz\, Hainaut\, 7603\, Belgique
CATEGORIES:Les Mercredis "Nature créative"
ATTACH;FMTTYPE=image/png:https://escaleforestiere.be/wp-content/uploads/2025/02/Firefly-20251205143801-gigapixel-standard-scale-4_00x-scaled.png
END:VEVENT
END:VCALENDAR