BEGIN:VCALENDAR
VERSION:2.0
PRODID:-//Escale forestière - ECPv6.15.20//NONSGML v1.0//EN
CALSCALE:GREGORIAN
METHOD:PUBLISH
X-ORIGINAL-URL:https://escaleforestiere.be
X-WR-CALDESC:Évènements pour Escale forestière
REFRESH-INTERVAL;VALUE=DURATION:PT1H
X-Robots-Tag:noindex
X-PUBLISHED-TTL:PT1H
BEGIN:VTIMEZONE
TZID:Europe/Paris
BEGIN:DAYLIGHT
TZOFFSETFROM:+0100
TZOFFSETTO:+0200
TZNAME:CEST
DTSTART:20250330T010000
END:DAYLIGHT
BEGIN:STANDARD
TZOFFSETFROM:+0200
TZOFFSETTO:+0100
TZNAME:CET
DTSTART:20251026T010000
END:STANDARD
BEGIN:DAYLIGHT
TZOFFSETFROM:+0100
TZOFFSETTO:+0200
TZNAME:CEST
DTSTART:20260329T010000
END:DAYLIGHT
BEGIN:STANDARD
TZOFFSETFROM:+0200
TZOFFSETTO:+0100
TZNAME:CET
DTSTART:20261025T010000
END:STANDARD
BEGIN:DAYLIGHT
TZOFFSETFROM:+0100
TZOFFSETTO:+0200
TZNAME:CEST
DTSTART:20270328T010000
END:DAYLIGHT
BEGIN:STANDARD
TZOFFSETFROM:+0200
TZOFFSETTO:+0100
TZNAME:CET
DTSTART:20271031T010000
END:STANDARD
END:VTIMEZONE
BEGIN:VEVENT
DTSTART;TZID=Europe/Paris:20260520T140000
DTEND;TZID=Europe/Paris:20260520T160000
DTSTAMP:20260421T111014
CREATED:20250224T131139Z
LAST-MODIFIED:20260226T094357Z
UID:4207-1779285600-1779292800@escaleforestiere.be
SUMMARY:Les Mercredis "Nature créative" #2  Le clair-obscur façon nature
DESCRIPTION:Découvrez comment la lumière se joue de l’ombre et crée la magie !\nÀ partir de matériaux naturels — brou de noix\, charbon\, terre\, noir de fumée — vous apprendrez à donner vie à des contrastes étonnants et à révéler toute la beauté du clair-obscur.  \nUn moment convivial où l’on teste\, on s’amuse\, on se salit un peu… et on repart fier de sa création.  \nAtelier créatif pour enfants à partir de 6 ans (accompagnés d’un adulte). Adultes seuls admis. \nPrix : 8€ (matériel fourni)
URL:https://escaleforestiere.be/event/les-mercredis-nature-creative-2-le-clair-obscur-facon-nature/
LOCATION:Escale forestière\, 31 rue des Sapins\, Péruwelz\, Hainaut\, 7603\, Belgique
CATEGORIES:Les Mercredis "Nature créative"
ATTACH;FMTTYPE=image/jpeg:https://escaleforestiere.be/wp-content/uploads/2025/02/monochrome-vintage-leaf-line-art-style-scaled-e1770109473932.jpg
END:VEVENT
END:VCALENDAR