BEGIN:VCALENDAR
VERSION:2.0
PRODID:-//Escale forestière - ECPv6.15.20//NONSGML v1.0//EN
CALSCALE:GREGORIAN
METHOD:PUBLISH
X-WR-CALNAME:Escale forestière
X-ORIGINAL-URL:https://escaleforestiere.be
X-WR-CALDESC:Évènements pour Escale forestière
REFRESH-INTERVAL;VALUE=DURATION:PT1H
X-Robots-Tag:noindex
X-PUBLISHED-TTL:PT1H
BEGIN:VTIMEZONE
TZID:Europe/Paris
BEGIN:DAYLIGHT
TZOFFSETFROM:+0100
TZOFFSETTO:+0200
TZNAME:CEST
DTSTART:20250330T010000
END:DAYLIGHT
BEGIN:STANDARD
TZOFFSETFROM:+0200
TZOFFSETTO:+0100
TZNAME:CET
DTSTART:20251026T010000
END:STANDARD
BEGIN:DAYLIGHT
TZOFFSETFROM:+0100
TZOFFSETTO:+0200
TZNAME:CEST
DTSTART:20260329T010000
END:DAYLIGHT
BEGIN:STANDARD
TZOFFSETFROM:+0200
TZOFFSETTO:+0100
TZNAME:CET
DTSTART:20261025T010000
END:STANDARD
BEGIN:DAYLIGHT
TZOFFSETFROM:+0100
TZOFFSETTO:+0200
TZNAME:CEST
DTSTART:20270328T010000
END:DAYLIGHT
BEGIN:STANDARD
TZOFFSETFROM:+0200
TZOFFSETTO:+0100
TZNAME:CET
DTSTART:20271031T010000
END:STANDARD
END:VTIMEZONE
BEGIN:VEVENT
DTSTART;TZID=Europe/Paris:20261216T140000
DTEND;TZID=Europe/Paris:20261216T160000
DTSTAMP:20260422T015738
CREATED:20240327T132349Z
LAST-MODIFIED:20260226T092925Z
UID:1609-1797429600-1797436800@escaleforestiere.be
SUMMARY:Les Mercredis « Nature créative » #9 Décoration de Noël
DESCRIPTION:Notre traditionnel atelier créatif de Noël est de retour ! A l’aide des trésors de la nature et de matériaux de récupération\, confectionnez un superbe objet de décoration pour les fêtes et repartez ensuite avec votre création pour donner une touche magique à vos fêtes de fin d’année.  \nAtelier créatif pour enfants à partir de 6 ans (accompagnés d’un adulte). Adultes seuls admis. \nPrix : 8€ (matériel fourni)
URL:https://escaleforestiere.be/event/les-mercredis-nature-creative-9-decoration-de-noel/
LOCATION:Hainaut
CATEGORIES:Les Mercredis "Nature créative"
ATTACH;FMTTYPE=image/jpeg:https://escaleforestiere.be/wp-content/uploads/2024/03/decoration-de-noel-DIY-scaled.jpg
END:VEVENT
END:VCALENDAR