BEGIN:VCALENDAR
VERSION:2.0
PRODID:-//Escale forestière - ECPv6.15.20//NONSGML v1.0//EN
CALSCALE:GREGORIAN
METHOD:PUBLISH
X-ORIGINAL-URL:https://escaleforestiere.be
X-WR-CALDESC:Évènements pour Escale forestière
REFRESH-INTERVAL;VALUE=DURATION:PT1H
X-Robots-Tag:noindex
X-PUBLISHED-TTL:PT1H
BEGIN:VTIMEZONE
TZID:Europe/Paris
BEGIN:DAYLIGHT
TZOFFSETFROM:+0100
TZOFFSETTO:+0200
TZNAME:CEST
DTSTART:20250330T010000
END:DAYLIGHT
BEGIN:STANDARD
TZOFFSETFROM:+0200
TZOFFSETTO:+0100
TZNAME:CET
DTSTART:20251026T010000
END:STANDARD
BEGIN:DAYLIGHT
TZOFFSETFROM:+0100
TZOFFSETTO:+0200
TZNAME:CEST
DTSTART:20260329T010000
END:DAYLIGHT
BEGIN:STANDARD
TZOFFSETFROM:+0200
TZOFFSETTO:+0100
TZNAME:CET
DTSTART:20261025T010000
END:STANDARD
BEGIN:DAYLIGHT
TZOFFSETFROM:+0100
TZOFFSETTO:+0200
TZNAME:CEST
DTSTART:20270328T010000
END:DAYLIGHT
BEGIN:STANDARD
TZOFFSETFROM:+0200
TZOFFSETTO:+0100
TZNAME:CET
DTSTART:20271031T010000
END:STANDARD
END:VTIMEZONE
BEGIN:VEVENT
DTSTART;TZID=Europe/Paris:20261021T140000
DTEND;TZID=Europe/Paris:20261021T160000
DTSTAMP:20260421T230102
CREATED:20240329T101142Z
LAST-MODIFIED:20260226T093122Z
UID:1665-1792591200-1792598400@escaleforestiere.be
SUMMARY:Les Mercredis  "Nature créative" #7 Champignons en argile
DESCRIPTION:Pour fêter le début de l’automne\, partons en forêt à la recherche de champignons.  Ensuite\, tentez de les recréer à partir d’argile avant de les installer sur un petit rondin de bois\, décoré de matières naturelles\, pour créer un véritable objet déco inspiré de la forêt.  \nEt parce que la créativité n’a pas de limites\, vous pourrez aussi imaginer un champignon totalement fantaisiste\, né directement de votre imagination.  \nAtelier créatif pour enfants à partir de 6 ans (accompagnés d’un adulte). Adultes seuls admis. \nPrix : 8€ (matériel fourni )
URL:https://escaleforestiere.be/event/les-mercredis-nature-creative-7-champignons-en-argile/
LOCATION:Escale forestière\, 31 rue des Sapins\, Péruwelz\, Hainaut\, 7603\, Belgique
CATEGORIES:Les Mercredis "Nature créative"
ATTACH;FMTTYPE=image/png:https://escaleforestiere.be/wp-content/uploads/2025/02/Firefly-20251205164125-gigapixel-standard-scale-4_00x-scaled.png
END:VEVENT
END:VCALENDAR