BEGIN:VCALENDAR
VERSION:2.0
PRODID:-//Escale forestière - ECPv6.15.20//NONSGML v1.0//EN
CALSCALE:GREGORIAN
METHOD:PUBLISH
X-WR-CALNAME:Escale forestière
X-ORIGINAL-URL:https://escaleforestiere.be
X-WR-CALDESC:Évènements pour Escale forestière
REFRESH-INTERVAL;VALUE=DURATION:PT1H
X-Robots-Tag:noindex
X-PUBLISHED-TTL:PT1H
BEGIN:VTIMEZONE
TZID:Europe/Paris
BEGIN:DAYLIGHT
TZOFFSETFROM:+0100
TZOFFSETTO:+0200
TZNAME:CEST
DTSTART:20250330T010000
END:DAYLIGHT
BEGIN:STANDARD
TZOFFSETFROM:+0200
TZOFFSETTO:+0100
TZNAME:CET
DTSTART:20251026T010000
END:STANDARD
BEGIN:DAYLIGHT
TZOFFSETFROM:+0100
TZOFFSETTO:+0200
TZNAME:CEST
DTSTART:20260329T010000
END:DAYLIGHT
BEGIN:STANDARD
TZOFFSETFROM:+0200
TZOFFSETTO:+0100
TZNAME:CET
DTSTART:20261025T010000
END:STANDARD
BEGIN:DAYLIGHT
TZOFFSETFROM:+0100
TZOFFSETTO:+0200
TZNAME:CEST
DTSTART:20270328T010000
END:DAYLIGHT
BEGIN:STANDARD
TZOFFSETFROM:+0200
TZOFFSETTO:+0100
TZNAME:CET
DTSTART:20271031T010000
END:STANDARD
END:VTIMEZONE
BEGIN:VEVENT
DTSTART;TZID=Europe/Paris:20260826T140000
DTEND;TZID=Europe/Paris:20260826T170000
DTSTAMP:20260421T193950
CREATED:20250224T122502Z
LAST-MODIFIED:20260226T094157Z
UID:4185-1787752800-1787763600@escaleforestiere.be
SUMMARY:Les Mercredis "Nature créative" #5 Bijoux au naturel
DESCRIPTION:La nature regorge de trésors\, parfois cachés juste sous nos yeux.  Lors d’une sortie en forêt\, vous récolterez feuilles\, graines\, écorces\, fleurs et autres éléments naturels.  Ensuite\, à l’aide d’une spécialiste\, vous apprendrez à les assembler pour créer des bijoux au style brut et authentique. Repartez avec vos boucles d’oreilles et pendentifs uniques inspirés par la forêt.  \nAtelier créatif pour enfants à partir de 6 ans (accompagnés d’un adulte). Adultes seuls admis. \nPrix : 8€ (matériel fourni)
URL:https://escaleforestiere.be/event/les-mercredis-nature-creative-5-bijoux-au-naturel/
LOCATION:Escale forestière\, 31 rue des Sapins\, Péruwelz\, Hainaut\, 7603\, Belgique
CATEGORIES:Les Mercredis "Nature créative"
ATTACH;FMTTYPE=image/png:https://escaleforestiere.be/wp-content/uploads/2025/02/Firefly_Gemini-Flash_zoomer-sur-les-bijoux-en-priorite-327137-gigapixel-standard-scale-4_00x-scaled.png
END:VEVENT
END:VCALENDAR